BEGIN:VCALENDAR
VERSION:2.0
PRODID:-//St. Marks Cathedral - ECPv6.15.20//NONSGML v1.0//EN
CALSCALE:GREGORIAN
METHOD:PUBLISH
X-WR-CALNAME:St. Marks Cathedral
X-ORIGINAL-URL:https://stmarksnj.com
X-WR-CALDESC:Events for St. Marks Cathedral
REFRESH-INTERVAL;VALUE=DURATION:PT1H
X-Robots-Tag:noindex
X-PUBLISHED-TTL:PT1H
BEGIN:VTIMEZONE
TZID:America/New_York
BEGIN:DAYLIGHT
TZOFFSETFROM:-0500
TZOFFSETTO:-0400
TZNAME:EDT
DTSTART:20250309T070000
END:DAYLIGHT
BEGIN:STANDARD
TZOFFSETFROM:-0400
TZOFFSETTO:-0500
TZNAME:EST
DTSTART:20251102T060000
END:STANDARD
BEGIN:DAYLIGHT
TZOFFSETFROM:-0500
TZOFFSETTO:-0400
TZNAME:EDT
DTSTART:20260308T070000
END:DAYLIGHT
BEGIN:STANDARD
TZOFFSETFROM:-0400
TZOFFSETTO:-0500
TZNAME:EST
DTSTART:20261101T060000
END:STANDARD
BEGIN:DAYLIGHT
TZOFFSETFROM:-0500
TZOFFSETTO:-0400
TZNAME:EDT
DTSTART:20270314T070000
END:DAYLIGHT
BEGIN:STANDARD
TZOFFSETFROM:-0400
TZOFFSETTO:-0500
TZNAME:EST
DTSTART:20271107T060000
END:STANDARD
END:VTIMEZONE
BEGIN:VEVENT
DTSTART;TZID=America/New_York:20260423T203000
DTEND;TZID=America/New_York:20260423T203000
DTSTAMP:20260423T114837
CREATED:20260104T173115Z
LAST-MODIFIED:20260104T221434Z
UID:4652-1776976200-1776976200@stmarksnj.com
SUMMARY:Adult Bible Study
DESCRIPTION:Join us every thursday night at 8:30pm for adults bible study
URL:https://stmarksnj.com/event/adult-bible-study-16/
CATEGORIES:Bible Study
ATTACH;FMTTYPE=image/jpeg:https://stmarksnj.com/wp-content/uploads/2025/05/adult-bible-study.jpg
END:VEVENT
END:VCALENDAR