BEGIN:VCALENDAR
VERSION:2.0
PRODID:-//St. Marks Cathedral - ECPv6.15.20//NONSGML v1.0//EN
CALSCALE:GREGORIAN
METHOD:PUBLISH
X-ORIGINAL-URL:https://stmarksnj.com
X-WR-CALDESC:Events for St. Marks Cathedral
REFRESH-INTERVAL;VALUE=DURATION:PT1H
X-Robots-Tag:noindex
X-PUBLISHED-TTL:PT1H
BEGIN:VTIMEZONE
TZID:America/New_York
BEGIN:DAYLIGHT
TZOFFSETFROM:-0500
TZOFFSETTO:-0400
TZNAME:EDT
DTSTART:20230312T070000
END:DAYLIGHT
BEGIN:STANDARD
TZOFFSETFROM:-0400
TZOFFSETTO:-0500
TZNAME:EST
DTSTART:20231105T060000
END:STANDARD
BEGIN:DAYLIGHT
TZOFFSETFROM:-0500
TZOFFSETTO:-0400
TZNAME:EDT
DTSTART:20240310T070000
END:DAYLIGHT
BEGIN:STANDARD
TZOFFSETFROM:-0400
TZOFFSETTO:-0500
TZNAME:EST
DTSTART:20241103T060000
END:STANDARD
BEGIN:DAYLIGHT
TZOFFSETFROM:-0500
TZOFFSETTO:-0400
TZNAME:EDT
DTSTART:20250309T070000
END:DAYLIGHT
BEGIN:STANDARD
TZOFFSETFROM:-0400
TZOFFSETTO:-0500
TZNAME:EST
DTSTART:20251102T060000
END:STANDARD
END:VTIMEZONE
BEGIN:VEVENT
DTSTART;TZID=America/New_York:20240225T123000
DTEND;TZID=America/New_York:20240225T150000
DTSTAMP:20260423T145716
CREATED:20240212T142207Z
LAST-MODIFIED:20240216T015835Z
UID:2836-1708864200-1708873200@stmarksnj.com
SUMMARY:Kettal Lunch
DESCRIPTION:The Ladies’ Auxiliary proudly present the annual kettal lunch. \nWe work hard to bring you delicious kettal that are made fresh by our own great cooks.  Come support your church and induldge in a delectable meal while helping to carry on the traditions of our unique cuisine.
URL:https://stmarksnj.com/event/kettal-lunch/
LOCATION:St. Mark’s Social Hall\, 55 W. Midland Ave\, Paramus\, NJ\, 07652
CATEGORIES:Ladies Auxiliary Events
ATTACH;FMTTYPE=image/jpeg:https://stmarksnj.com/wp-content/uploads/2024/02/kettal.jpg
ORGANIZER;CN="Ladies Auxiliary":MAILTO:la@stmarksnj.com
END:VEVENT
END:VCALENDAR